BEGIN:VCALENDAR
VERSION:2.0
PRODID:-//Lösekes Blues Gang - ECPv6.15.12.2//NONSGML v1.0//EN
CALSCALE:GREGORIAN
METHOD:PUBLISH
X-WR-CALNAME:Lösekes Blues Gang
X-ORIGINAL-URL:https://loesekes-blues-gang.de
X-WR-CALDESC:Veranstaltungen für Lösekes Blues Gang
REFRESH-INTERVAL;VALUE=DURATION:PT1H
X-Robots-Tag:noindex
X-PUBLISHED-TTL:PT1H
BEGIN:VTIMEZONE
TZID:Europe/Berlin
BEGIN:DAYLIGHT
TZOFFSETFROM:+0100
TZOFFSETTO:+0200
TZNAME:CEST
DTSTART:20150329T010000
END:DAYLIGHT
BEGIN:STANDARD
TZOFFSETFROM:+0200
TZOFFSETTO:+0100
TZNAME:CET
DTSTART:20151025T010000
END:STANDARD
BEGIN:DAYLIGHT
TZOFFSETFROM:+0100
TZOFFSETTO:+0200
TZNAME:CEST
DTSTART:20160327T010000
END:DAYLIGHT
BEGIN:STANDARD
TZOFFSETFROM:+0200
TZOFFSETTO:+0100
TZNAME:CET
DTSTART:20161030T010000
END:STANDARD
BEGIN:DAYLIGHT
TZOFFSETFROM:+0100
TZOFFSETTO:+0200
TZNAME:CEST
DTSTART:20170326T010000
END:DAYLIGHT
BEGIN:STANDARD
TZOFFSETFROM:+0200
TZOFFSETTO:+0100
TZNAME:CET
DTSTART:20171029T010000
END:STANDARD
END:VTIMEZONE
BEGIN:VEVENT
DTSTART;TZID=Europe/Berlin:20160827T200000
DTEND;TZID=Europe/Berlin:20160827T200000
DTSTAMP:20260424T135629
CREATED:20160502T134818Z
LAST-MODIFIED:20160502T134818Z
UID:801-1472328000-1472328000@loesekes-blues-gang.de
SUMMARY:2. Bluestime in Marienhagen
DESCRIPTION:Eine tolle Location\, wir freuen uns auf diesen Gig.
URL:https://loesekes-blues-gang.de/event/2-bluestime-in-marienhagen/
LOCATION:Bluestime Marienhagen\, Altes Betonwerk\, Marienhagen\, Deutschland
ATTACH;FMTTYPE=image/jpeg:https://loesekes-blues-gang.de/wp-content/uploads/2016/05/Marienhagen_loesekes.jpg
END:VEVENT
END:VCALENDAR