BEGIN:VCALENDAR
VERSION:2.0
PRODID:-//Lösekes Blues Gang - ECPv6.15.12.2//NONSGML v1.0//EN
CALSCALE:GREGORIAN
METHOD:PUBLISH
X-ORIGINAL-URL:https://loesekes-blues-gang.de
X-WR-CALDESC:Veranstaltungen für Lösekes Blues Gang
REFRESH-INTERVAL;VALUE=DURATION:PT1H
X-Robots-Tag:noindex
X-PUBLISHED-TTL:PT1H
BEGIN:VTIMEZONE
TZID:Europe/Berlin
BEGIN:DAYLIGHT
TZOFFSETFROM:+0100
TZOFFSETTO:+0200
TZNAME:CEST
DTSTART:20160327T010000
END:DAYLIGHT
BEGIN:STANDARD
TZOFFSETFROM:+0200
TZOFFSETTO:+0100
TZNAME:CET
DTSTART:20161030T010000
END:STANDARD
BEGIN:DAYLIGHT
TZOFFSETFROM:+0100
TZOFFSETTO:+0200
TZNAME:CEST
DTSTART:20170326T010000
END:DAYLIGHT
BEGIN:STANDARD
TZOFFSETFROM:+0200
TZOFFSETTO:+0100
TZNAME:CET
DTSTART:20171029T010000
END:STANDARD
BEGIN:DAYLIGHT
TZOFFSETFROM:+0100
TZOFFSETTO:+0200
TZNAME:CEST
DTSTART:20180325T010000
END:DAYLIGHT
BEGIN:STANDARD
TZOFFSETFROM:+0200
TZOFFSETTO:+0100
TZNAME:CET
DTSTART:20181028T010000
END:STANDARD
END:VTIMEZONE
BEGIN:VEVENT
DTSTART;TZID=Europe/Berlin:20170722T190000
DTEND;TZID=Europe/Berlin:20170722T230000
DTSTAMP:20260423T225350
CREATED:20170524T091113Z
LAST-MODIFIED:20170615T101910Z
UID:968-1500750000-1500764400@loesekes-blues-gang.de
SUMMARY:Tiengener Sommer
DESCRIPTION:Tiengener Sommer\, das Sommer-Jazzfestival am Hochrhein. Wunderschön gelegen und mit diversen Bühnen in der Fußgängerzohne. Zwei Jahre ist es her\, dass wir das letzte Mal da waren\, bei strömendem Regen\, aber einem sensationellen Publikum. Löseke tritt wieder mit großer Besetzung\, also mit den Lösekes Horns auf. Wir freuen uns sehr auf Tiengen.
URL:https://loesekes-blues-gang.de/event/tiengener-sommer/
LOCATION:Tiengener Sommer\, Aktionsgemeinschaft Tiengen e.V.\, Walshut/Tiengen\, 79761
ATTACH;FMTTYPE=image/jpeg:https://loesekes-blues-gang.de/wp-content/uploads/2017/05/Jazzfest-TIENGENER-SOMMER-2017-neu-neu-neu-3644f619.jpg
END:VEVENT
END:VCALENDAR