BEGIN:VCALENDAR
VERSION:2.0
PRODID:-//Lösekes Blues Gang - ECPv6.15.12.2//NONSGML v1.0//EN
CALSCALE:GREGORIAN
METHOD:PUBLISH
X-WR-CALNAME:Lösekes Blues Gang
X-ORIGINAL-URL:https://loesekes-blues-gang.de
X-WR-CALDESC:Veranstaltungen für Lösekes Blues Gang
REFRESH-INTERVAL;VALUE=DURATION:PT1H
X-Robots-Tag:noindex
X-PUBLISHED-TTL:PT1H
BEGIN:VTIMEZONE
TZID:Europe/Berlin
BEGIN:DAYLIGHT
TZOFFSETFROM:+0100
TZOFFSETTO:+0200
TZNAME:CEST
DTSTART:20170326T010000
END:DAYLIGHT
BEGIN:STANDARD
TZOFFSETFROM:+0200
TZOFFSETTO:+0100
TZNAME:CET
DTSTART:20171029T010000
END:STANDARD
BEGIN:DAYLIGHT
TZOFFSETFROM:+0100
TZOFFSETTO:+0200
TZNAME:CEST
DTSTART:20180325T010000
END:DAYLIGHT
BEGIN:STANDARD
TZOFFSETFROM:+0200
TZOFFSETTO:+0100
TZNAME:CET
DTSTART:20181028T010000
END:STANDARD
BEGIN:DAYLIGHT
TZOFFSETFROM:+0100
TZOFFSETTO:+0200
TZNAME:CEST
DTSTART:20190331T010000
END:DAYLIGHT
BEGIN:STANDARD
TZOFFSETFROM:+0200
TZOFFSETTO:+0100
TZNAME:CET
DTSTART:20191027T010000
END:STANDARD
END:VTIMEZONE
BEGIN:VEVENT
DTSTART;TZID=Europe/Berlin:20180224T200000
DTEND;TZID=Europe/Berlin:20180224T200000
DTSTAMP:20260423T130527
CREATED:20171127T195953Z
LAST-MODIFIED:20171129T094625Z
UID:1030-1519502400-1519502400@loesekes-blues-gang.de
SUMMARY:40 Jahre Lösekes Blues Gang im Downtown Blues Club Hamburg
DESCRIPTION:Es ist schon eine ganze Weile her\, dass wir im Downtown Bluesclub waren. Es ist einer der angesagtesten Clubs in Norddeutschland und wir feiern hier nachträglich unser 40. Bühnenjubiläum. Anlass ist auch die Veröffentlichung unserer Lösekes- CD-Casette in der alle bisher erschienenen CD´s und remasterten LP´s in digitaler Form veröffentlicht werden. Als Special Gast dabei: der Ur-Löseke Bernie Ringe. \nWir freuen uns sehr auf diesen Gig. \n\n \n \n\n\n \n\nG\nM\nT\n\n\n \n \n\n\n\n\n\n\nSprache erkennenAfrikaansAlbanischArabischArmenischAserbaidschanischBaskischBengalischBosnischBulgarischBurmesischCebuanoChichewaChinesisch (ver)Chinesisch (trad)DänischDeutschEnglischEsperantoEstnischFinnischFranzösischGalizischGeorgischGriechischGujaratiHaitianischHausaHebräischHindiHmongIgboIndonesischIrischIsländischItalienischJapanischJavanesischJiddischKannadaKasachischKatalanischKhmerKoreanischKroatischLaoLateinishLettischLitauischMalabarischMalagasyMalaysischMaltesischMaoriMarathischMazedonischMongolischNepalesischNiederländischNorwegischPersischPolnischPortugiesischPunjabiRumänischRussischSchwedischSerbischSesothoSinghalesischSlowakischSlowenischSomaliSpanischSuaheliSundanesischTadschikischTagalogTamilTeluguThailändischTschechischTürkischUkrainischUngarischUrduUzbekischVietnamesischWalisischWeißrussischYorubaZulu\n\n \n\nAfrikaansAlbanischArabischArmenischAserbaidschanischBaskischBengalischBosnischBulgarischBurmesischCebuanoChichewaChinesisch (ver)Chinesisch (trad)DänischDeutschEnglischEsperantoEstnischFinnischFranzösischGalizischGeorgischGriechischGujaratiHaitianischHausaHebräischHindiHmongIgboIndonesischIrischIsländischItalienischJapanischJavanesischJiddischKannadaKasachischKatalanischKhmerKoreanischKroatischLaoLateinishLettischLitauischMalabarischMalagasyMalaysischMaltesischMaoriMarathischMazedonischMongolischNepalesischNiederländischNorwegischPersischPolnischPortugiesischPunjabiRumänischRussischSchwedischSerbischSesothoSinghalesischSlowakischSlowenischSomaliSpanischSuaheliSundanesischTadschikischTagalogTamilTeluguThailändischTschechischTürkischUkrainischUngarischUrduUzbekischVietnamesischWalisischWeißrussischYorubaZulu\n\n \n\n\n \n\n\n \n \n\n\n \n\n\n \n\n\n\n\n\n\n \n \n \nDie Sound-Funktion ist auf 200 Zeichen begrenzt\n\n \n\n\n\n\n\n \n\nOptionen : Geschichte : Feedback : Donate\nSchließen
URL:https://loesekes-blues-gang.de/event/40-jahre-loesekes-blues-gang-im-downtown-blues-club-hamburg/
LOCATION:Downtown Blues Club im Landhaus Walter\, Otto-Wels-Str. 2 \, Hamburg\, 22303 \, Deutschland
CATEGORIES:Clubkonzert
ATTACH;FMTTYPE=image/jpeg:https://loesekes-blues-gang.de/wp-content/uploads/2017/11/393A4513.jpg
END:VEVENT
END:VCALENDAR