BEGIN:VCALENDAR
VERSION:2.0
PRODID:-//Lösekes Blues Gang - ECPv6.15.12.2//NONSGML v1.0//EN
CALSCALE:GREGORIAN
METHOD:PUBLISH
X-ORIGINAL-URL:https://loesekes-blues-gang.de
X-WR-CALDESC:Veranstaltungen für Lösekes Blues Gang
REFRESH-INTERVAL;VALUE=DURATION:PT1H
X-Robots-Tag:noindex
X-PUBLISHED-TTL:PT1H
BEGIN:VTIMEZONE
TZID:Europe/Berlin
BEGIN:DAYLIGHT
TZOFFSETFROM:+0100
TZOFFSETTO:+0200
TZNAME:CEST
DTSTART:20170326T010000
END:DAYLIGHT
BEGIN:STANDARD
TZOFFSETFROM:+0200
TZOFFSETTO:+0100
TZNAME:CET
DTSTART:20171029T010000
END:STANDARD
BEGIN:DAYLIGHT
TZOFFSETFROM:+0100
TZOFFSETTO:+0200
TZNAME:CEST
DTSTART:20180325T010000
END:DAYLIGHT
BEGIN:STANDARD
TZOFFSETFROM:+0200
TZOFFSETTO:+0100
TZNAME:CET
DTSTART:20181028T010000
END:STANDARD
BEGIN:DAYLIGHT
TZOFFSETFROM:+0100
TZOFFSETTO:+0200
TZNAME:CEST
DTSTART:20190331T010000
END:DAYLIGHT
BEGIN:STANDARD
TZOFFSETFROM:+0200
TZOFFSETTO:+0100
TZNAME:CET
DTSTART:20191027T010000
END:STANDARD
END:VTIMEZONE
BEGIN:VEVENT
DTSTART;TZID=Europe/Berlin:20181123T200000
DTEND;TZID=Europe/Berlin:20181123T230000
DTSTAMP:20260422T235419
CREATED:20180328T183845Z
LAST-MODIFIED:20180328T183845Z
UID:1309-1543003200-1543014000@loesekes-blues-gang.de
SUMMARY:Löseke in der Kniki
DESCRIPTION:Zwei Jahre ist unser Konzert in der ausverkauften Kniki her\, nun soll es wieder sein. Diesmal mit Hardy Schölch am Bariton- und am Tenor-Sax. Wir hoffen auf ein volles Haus und freuen uns auf Salzgitter. \n\n \n \n\n\n \n\nG\nM\nT\n\n\n \n \n\n\n\n\n\n\nSprache erkennenAfrikaansAlbanischArabischArmenischAserbaidschanischBaskischBengalischBosnischBulgarischBurmesischCebuanoChichewaChinesisch (ver)Chinesisch (trad)DänischDeutschEnglischEsperantoEstnischFinnischFranzösischGalizischGeorgischGriechischGujaratiHaitianischHausaHebräischHindiHmongIgboIndonesischIrischIsländischItalienischJapanischJavanesischJiddischKannadaKasachischKatalanischKhmerKoreanischKroatischLaoLateinishLettischLitauischMalabarischMalagasyMalaysischMaltesischMaoriMarathischMazedonischMongolischNepalesischNiederländischNorwegischPersischPolnischPortugiesischPunjabiRumänischRussischSchwedischSerbischSesothoSinghalesischSlowakischSlowenischSomaliSpanischSuaheliSundanesischTadschikischTagalogTamilTeluguThailändischTschechischTürkischUkrainischUngarischUrduUzbekischVietnamesischWalisischWeißrussischYorubaZulu\n\n \n\nAfrikaansAlbanischArabischArmenischAserbaidschanischBaskischBengalischBosnischBulgarischBurmesischCebuanoChichewaChinesisch (ver)Chinesisch (trad)DänischDeutschEnglischEsperantoEstnischFinnischFranzösischGalizischGeorgischGriechischGujaratiHaitianischHausaHebräischHindiHmongIgboIndonesischIrischIsländischItalienischJapanischJavanesischJiddischKannadaKasachischKatalanischKhmerKoreanischKroatischLaoLateinishLettischLitauischMalabarischMalagasyMalaysischMaltesischMaoriMarathischMazedonischMongolischNepalesischNiederländischNorwegischPersischPolnischPortugiesischPunjabiRumänischRussischSchwedischSerbischSesothoSinghalesischSlowakischSlowenischSomaliSpanischSuaheliSundanesischTadschikischTagalogTamilTeluguThailändischTschechischTürkischUkrainischUngarischUrduUzbekischVietnamesischWalisischWeißrussischYorubaZulu\n\n \n\n\n \n\n\n \n \n\n\n \n\n\n \n\n\n\n\n\n\n \n \n \nDie Sound-Funktion ist auf 200 Zeichen begrenzt\n\n \n\n\n\n\n\n \n\nOptionen : Geschichte : Feedback : Donate\nSchließen
URL:https://loesekes-blues-gang.de/event/loeseke-in-der-kniki/
LOCATION:Kniki Salzgitter Bad\, Braunschweiger Str. 133\, Salzgitter Bad
ATTACH;FMTTYPE=image/jpeg:https://loesekes-blues-gang.de/wp-content/uploads/2015/12/kniki01.jpg
END:VEVENT
END:VCALENDAR