BEGIN:VCALENDAR
VERSION:2.0
PRODID:-//Lösekes Blues Gang - ECPv6.15.12.2//NONSGML v1.0//EN
CALSCALE:GREGORIAN
METHOD:PUBLISH
X-WR-CALNAME:Lösekes Blues Gang
X-ORIGINAL-URL:https://loesekes-blues-gang.de
X-WR-CALDESC:Veranstaltungen für Lösekes Blues Gang
REFRESH-INTERVAL;VALUE=DURATION:PT1H
X-Robots-Tag:noindex
X-PUBLISHED-TTL:PT1H
BEGIN:VTIMEZONE
TZID:Europe/Berlin
BEGIN:DAYLIGHT
TZOFFSETFROM:+0100
TZOFFSETTO:+0200
TZNAME:CEST
DTSTART:20160327T010000
END:DAYLIGHT
BEGIN:STANDARD
TZOFFSETFROM:+0200
TZOFFSETTO:+0100
TZNAME:CET
DTSTART:20161030T010000
END:STANDARD
BEGIN:DAYLIGHT
TZOFFSETFROM:+0100
TZOFFSETTO:+0200
TZNAME:CEST
DTSTART:20170326T010000
END:DAYLIGHT
BEGIN:STANDARD
TZOFFSETFROM:+0200
TZOFFSETTO:+0100
TZNAME:CET
DTSTART:20171029T010000
END:STANDARD
BEGIN:DAYLIGHT
TZOFFSETFROM:+0100
TZOFFSETTO:+0200
TZNAME:CEST
DTSTART:20180325T010000
END:DAYLIGHT
BEGIN:STANDARD
TZOFFSETFROM:+0200
TZOFFSETTO:+0100
TZNAME:CET
DTSTART:20181028T010000
END:STANDARD
END:VTIMEZONE
BEGIN:VEVENT
DTSTART;TZID=Europe/Berlin:20170902T180000
DTEND;TZID=Europe/Berlin:20170902T193000
DTSTAMP:20260423T184259
CREATED:20170524T102819Z
LAST-MODIFIED:20170615T112317Z
UID:978-1504375200-1504380600@loesekes-blues-gang.de
SUMMARY:Lehrte Bluesfestival
DESCRIPTION:Seit den 80er Jahren waren wir nicht mehr dabei\, jetzt hat es mal wieder geklappt. Am 2. September sind wir on Stage in Lehrte einem der alteingesessensten Blusfestivals der Republik. Diesmal mit großer Besetzung\, den Löseke Horns um Nigel Moore\, Thomas Zander und Hardy Schölch. \nLasst uns Lehrte rocken!
URL:https://loesekes-blues-gang.de/event/lehrte-bluesfestival-2/
LOCATION:Landhaus Greene\, Steinweg 5\, Greene\, 37574
ATTACH;FMTTYPE=image/jpeg:https://loesekes-blues-gang.de/wp-content/uploads/2017/05/Lehrte-Bluesfestival-2017-05-24-um-12.16.12.jpg
END:VEVENT
END:VCALENDAR