BEGIN:VCALENDAR
VERSION:2.0
PRODID:-//Lösekes Blues Gang - ECPv6.15.12.2//NONSGML v1.0//EN
CALSCALE:GREGORIAN
METHOD:PUBLISH
X-ORIGINAL-URL:https://loesekes-blues-gang.de
X-WR-CALDESC:Veranstaltungen für Lösekes Blues Gang
REFRESH-INTERVAL;VALUE=DURATION:PT1H
X-Robots-Tag:noindex
X-PUBLISHED-TTL:PT1H
BEGIN:VTIMEZONE
TZID:Europe/Berlin
BEGIN:DAYLIGHT
TZOFFSETFROM:+0100
TZOFFSETTO:+0200
TZNAME:CEST
DTSTART:20180325T010000
END:DAYLIGHT
BEGIN:STANDARD
TZOFFSETFROM:+0200
TZOFFSETTO:+0100
TZNAME:CET
DTSTART:20181028T010000
END:STANDARD
BEGIN:DAYLIGHT
TZOFFSETFROM:+0100
TZOFFSETTO:+0200
TZNAME:CEST
DTSTART:20190331T010000
END:DAYLIGHT
BEGIN:STANDARD
TZOFFSETFROM:+0200
TZOFFSETTO:+0100
TZNAME:CET
DTSTART:20191027T010000
END:STANDARD
BEGIN:DAYLIGHT
TZOFFSETFROM:+0100
TZOFFSETTO:+0200
TZNAME:CEST
DTSTART:20200329T010000
END:DAYLIGHT
BEGIN:STANDARD
TZOFFSETFROM:+0200
TZOFFSETTO:+0100
TZNAME:CET
DTSTART:20201025T010000
END:STANDARD
END:VTIMEZONE
BEGIN:VEVENT
DTSTART;TZID=Europe/Berlin:20191207T200000
DTEND;TZID=Europe/Berlin:20191207T200000
DTSTAMP:20260420T010128
CREATED:20190702T184642Z
LAST-MODIFIED:20190702T184935Z
UID:1390-1575748800-1575748800@loesekes-blues-gang.de
SUMMARY:Löseke in der Bischofsmühle Hildesheim
DESCRIPTION:Zwei Jahre ist es her\, dass wir das letzte Mal in der Mühle waren. Bischofsmühle Hildesheim ist nach all den Jahren immer noch etwas Besonderes. Der Club in dem wir unsere ersten Gehversuche 1974 hatten. Wir spielen diesmal in unserer neuen\, festen Besetzung mit Hardy Schölch am Bariton Sax. Die Bläsersätze machen er und Chris Hönniger und das ergibt einen neuen\, sehr interessanten Sound. Wir freuen uns sehr auf die Bischofsmühle am 7. Dezember\, also lasst uns die Mühle rocken und ein feines Nikolauskonzert abliefern.
URL:https://loesekes-blues-gang.de/event/loeseke-in-der-bischofsmuehle-hildesheim/
LOCATION:Bischofsmühle Hildesheim\, Dammstraße\, Hildesheim
CATEGORIES:Clubkonzert
END:VEVENT
END:VCALENDAR